BEGIN:VCALENDAR
VERSION:2.0
METHOD:PUBLISH
X-WR-CALNAME:ARGYLL EAST SCHOOL |  December 01 2017- January 01 2018
PRODID:-//strange bird labs//Drupal iCal API//EN
BEGIN:VEVENT
DTSTAMP;VALUE=DATE-TIME:20180122T233343Z
DTSTART;VALUE=DATE-TIME:20171206T015300Z
DTEND;VALUE=DATE-TIME:20020203
UID:http://argylleast.school.nz/conferences-3
URL;VALUE=URI:http://argylleast.school.nz/conferences-3
SUMMARY:Conferences
END:VEVENT
BEGIN:VEVENT
DTSTAMP;VALUE=DATE-TIME:20180122T233343Z
DTSTART;VALUE=DATE-TIME:20171213T050000Z
DTEND;VALUE=DATE-TIME:20171213T050000Z
UID:http://argylleast.school.nz/prize-giving-3
URL;VALUE=URI:http://argylleast.school.nz/prize-giving-3
SUMMARY:Prize Giving
END:VEVENT
BEGIN:VEVENT
DTSTAMP;VALUE=DATE-TIME:20180122T233343Z
DTSTART;VALUE=DATE-TIME:20171214T000000Z
DTEND;VALUE=DATE-TIME:20171214T000000Z
UID:http://argylleast.school.nz/end-of-term-4
URL;VALUE=URI:http://argylleast.school.nz/end-of-term-4
SUMMARY:End of Term 4
END:VEVENT
END:VCALENDAR
